BEGIN:VCALENDAR
VERSION:2.0
PRODID:-//eventon.com NONSGML v1.0//EN
BEGIN:VEVENT
UID:69ecd28f39350
DTSTAMP:20260425T164119
DTSTART:20260606T170000Z
DTEND:20260606T215000Z
TZID:Europe/Belgrade
LOCATION:Živinice 
SUMMARY:Živinička TRKA dr. Samir Kamenjaković 2026
DESCRIPTION: PRIJAVA/REGISTRACIJA LISTA PRIJAVLJENIH CIJENA 10 BAM PRIJAVA I CIJENA UPLATNICA JAVNI RASPIS ŽIVINIČKA TRKA „dr. Samir Kamenjaković“ 2026 Organizator: KBV „Flek Tom Cat“ Živinice Datum održavanja:  06.06.2026. godina Vrijeme održavanja: ·  Preuzimanje startnih paketa: od 15:00 h ·  Dječije trke: o 18:30 h – mlađa kategorija o (naknadno start starije dječije kategorije) ·  Glavna trka (odrasli): 19:00 h Lokacija[..]\nhttps://gb3timing.com/dogadjaj/zivnicka-trka-2026/
URL:https://gb3timing.com/dogadjaj/zivnicka-trka-2026/
END:VEVENT
END:VCALENDAR