BEGIN:VCALENDAR
VERSION:2.0
PRODID:-//eventon.com NONSGML v1.0//EN
BEGIN:VEVENT
UID:69ece8136bfbe
DTSTAMP:20260425T181307
DTSTART:20260426T070000Z
DTEND:20260426T215000Z
TZID:Europe/Belgrade
LOCATION:Banja Luka Banja Luka
SUMMARY:BANJALUKA 5k
DESCRIPTION: PRIJAVA/REGISTRACIJA LISTA PRIJAVLJENIH CIJENA 25 BAM PRIJAVA I CIJENA UPLATNICA https://www.youtube.com/watch?v=kwWqUEdE73k VIDEO BANJALUKA 5K &nbsp;Datum: 26.04.2026.&nbsp;Lokacija: Trg Krajine\,  Banjaluka&nbsp;Organizator: Banjalučka Trkačka Liga&nbsp;Email: banjaluckatrkackaliga@yahoo.com&nbsp;Facebook / Instagram: Banjalučka Trkačka Liga &nbsp;Tel/ 066 142 590 Događaji i satnica &nbsp; &nbsp; •&nbsp; &nbsp; Glavna trka – BANJALUKA 5K: &nbsp;09h&nbsp; &nbsp; •&nbsp; &nbsp; Dječije trke:[..]\nhttps://gb3timing.com/dogadjaj/banjaluka5k/
URL:https://gb3timing.com/dogadjaj/banjaluka5k/
END:VEVENT
END:VCALENDAR