BEGIN:VCALENDAR
VERSION:2.0
PRODID:-//eventon.com NONSGML v1.0//EN
BEGIN:VEVENT
UID:69eccf7563910
DTSTAMP:20260425T162805
DTSTART:20260605T170000Z
DTEND:20260605T215000Z
TZID:Europe/Belgrade
LOCATION:Foča 
SUMMARY:10. Ulična trka kroz Foču
DESCRIPTION: PRIJAVA/REGISTRACIJA LISTA PRIJAVLJENIH CIJENA 30 BAM PRIJAVA I CIJENA UPLATNICA https://www.youtube.com/watch?v=XHOmBV4js_E VIDEO MAJICA “ 10.УЛИЧНА ТРКА КРОЗ ФОЧУ -2026“ &nbsp; Фоча\,  петак&nbsp;05. jun&nbsp;2026.године oд&nbsp;19:00&nbsp;ч Центар за културу и информисање &nbsp;&nbsp;&nbsp;&nbsp;&nbsp;&nbsp;&nbsp;&nbsp;&nbsp;&nbsp;&nbsp;&nbsp;&nbsp;&nbsp;&nbsp;&nbsp;&nbsp;&nbsp;&nbsp;&nbsp;&nbsp;&nbsp;&nbsp;&nbsp;&nbsp;&nbsp;&nbsp;&nbsp;&nbsp;&nbsp;&nbsp;&nbsp;&nbsp;&nbsp;&nbsp;&nbsp;&nbsp;&nbsp;&nbsp;&nbsp;&nbsp;&nbsp;&nbsp;&nbsp;&nbsp;&nbsp;&nbsp;&nbsp;САТНИЦА ТАКМИЧЕЊА: 19:00 цицибани дјечаци&#8230;&#8230;&#8230;&#8230;&#8230;&#8230;&#8230;...2020 год.и млађи&nbsp;&nbsp;&nbsp;&nbsp;&nbsp;&nbsp;&nbsp;&nbsp;&nbsp;&nbsp;&nbsp;100m. 19:05 цицибани дјевојчице&#8230;&#8230;&#8230;&#8230;&#8230;....2020 год и млађи&nbsp;&nbsp;&nbsp;&nbsp;&nbsp;&nbsp;&nbsp;&nbsp;&nbsp;&nbsp;&nbsp;100m. 19:10&nbsp;дјевојчице&#8230;&#8230;&#8230;&#8230;&#8230;&#8230;&#8230;&#8230;..1 разред&nbsp;OШ&nbsp;2019 год.&nbsp;&nbsp;&nbsp;&nbsp;200m. 19:15 дјечаци &#8230;&#8230;&#8230;&#8230;&#8230;&#8230;&#8230;&#8230;&#8230;&#8230;1 разред&nbsp;OШ&nbsp;2019 год.[..]\nhttps://gb3timing.com/dogadjaj/10-ulicna-trka-kroz-focu-2/
URL:https://gb3timing.com/dogadjaj/10-ulicna-trka-kroz-focu-2/
END:VEVENT
END:VCALENDAR